BEGIN:VCALENDAR
VERSION:2.0
PRODID:-//Plone.org//NONSGML plone.app.event//EN
X-WR-TIMEZONE:Europe/Madrid
BEGIN:VEVENT
SUMMARY:Xerrada-taller: "Saltar y luego mirar atrás: escriptura i exili"
DTSTART;TZID=Europe/Madrid;VALUE=DATE-TIME:20240314T173000
DTEND;TZID=Europe/Madrid;VALUE=DATE-TIME:20240314T183000
DTSTAMP;VALUE=DATE-TIME:20260425T140017Z
UID:879245d4d32c43729b264cbd7be345a0@www.molletvalles.cat
CATEGORIES:Xerrades
CREATED;VALUE=DATE-TIME:20240305T125651Z
LAST-MODIFIED;VALUE=DATE-TIME:20240306T085852Z
URL:https://www.molletvalles.cat/ca/actualitat/agenda/xerrada-taller-salta
 r-y-luego-mirar-atras-escriptura-i-exili
END:VEVENT
BEGIN:VTIMEZONE
TZID:Europe/Madrid
X-LIC-LOCATION:Europe/Madrid
BEGIN:STANDARD
DTSTART;VALUE=DATE-TIME:20231029T020000
TZNAME:CET
TZOFFSETFROM:+0200
TZOFFSETTO:+0100
END:STANDARD
END:VTIMEZONE
END:VCALENDAR
