BEGIN:VCALENDAR
VERSION:2.0
PRODID:-//Plone.org//NONSGML plone.app.event//EN
X-WR-TIMEZONE:Europe/Madrid
BEGIN:VEVENT
SUMMARY:Xerrada: Trobada en petit format per escoltar les veus més proper
 es a Cesc Bas
DTSTART;TZID=Europe/Madrid;VALUE=DATE-TIME:20260429T190000
DTEND;TZID=Europe/Madrid;VALUE=DATE-TIME:20260429T200000
DTSTAMP;VALUE=DATE-TIME:20260425T173119Z
UID:0563c92414a045c4aafdaa4945904dfc@www.molletvalles.cat
CATEGORIES:Xerrades
CREATED;VALUE=DATE-TIME:20260421T080003Z
LAST-MODIFIED;VALUE=DATE-TIME:20260422T091838Z
URL:https://www.molletvalles.cat/ca/actualitat/agenda/xerrada-trobada-en-p
 etit-format-per-escoltar-les-veus-mes-properes-a-cesc-bas
END:VEVENT
BEGIN:VTIMEZONE
TZID:Europe/Madrid
X-LIC-LOCATION:Europe/Madrid
BEGIN:DAYLIGHT
DTSTART;VALUE=DATE-TIME:20260329T030000
TZNAME:CEST
TZOFFSETFROM:+0100
TZOFFSETTO:+0200
END:DAYLIGHT
END:VTIMEZONE
END:VCALENDAR
