BEGIN:VCALENDAR
VERSION:2.0
PRODID:-//Plone.org//NONSGML plone.app.event//EN
X-WR-TIMEZONE:Europe/Madrid
BEGIN:VEVENT
SUMMARY:Xerrada: "Violències Masclistes i Cultura: reptes socials i educa
 tius"
DTSTART;TZID=Europe/Madrid;VALUE=DATE-TIME:20241114T183000
DTEND;TZID=Europe/Madrid;VALUE=DATE-TIME:20241114T193000
DTSTAMP;VALUE=DATE-TIME:20260421T155737Z
UID:c25aa105209d4ce8939dd985a9d3231a@www.molletvalles.cat
CATEGORIES:Xerrades
CREATED;VALUE=DATE-TIME:20241113T112942Z
DESCRIPTION:25N DIA INTERNACIONAL PER A L'ERRADICACIÓ DE LA VIOLÈNCIA VE
 RS LES DONES
LAST-MODIFIED;VALUE=DATE-TIME:20241114T114435Z
LOCATION:Casal Cultural
URL:https://www.molletvalles.cat/ca/actualitat/agenda/xerrada-violencies-m
 asclistes-i-cultura-reptes-socials-i-educatius
END:VEVENT
BEGIN:VTIMEZONE
TZID:Europe/Madrid
X-LIC-LOCATION:Europe/Madrid
BEGIN:STANDARD
DTSTART;VALUE=DATE-TIME:20241027T020000
TZNAME:CET
TZOFFSETFROM:+0200
TZOFFSETTO:+0100
END:STANDARD
END:VTIMEZONE
END:VCALENDAR
