BEGIN:VCALENDAR
VERSION:2.0
PRODID:-//Plone.org//NONSGML plone.app.event//EN
X-WR-TIMEZONE:Europe/Madrid
BEGIN:VEVENT
SUMMARY:Xocolatada\, a càrrec dels veïns i veïnes de la Fira
DTSTART;TZID=Europe/Madrid;VALUE=DATE-TIME:20250920T103000
DTEND;TZID=Europe/Madrid;VALUE=DATE-TIME:20250920T113000
DTSTAMP;VALUE=DATE-TIME:20260421T140512Z
UID:dc2ac47e6c5b48aa872159f4a3fdb28f@www.molletvalles.cat
CATEGORIES:Fires i mercats
CREATED;VALUE=DATE-TIME:20250915T073237Z
DESCRIPTION:FIRA D'ARTESANS 2025
LAST-MODIFIED;VALUE=DATE-TIME:20250915T091907Z
LOCATION:Plaça de l'Artesania
URL:https://www.molletvalles.cat/ca/actualitat/agenda/xocolatada-a-carrec-
 dels-veins-i-veines-de-la-fira-2
END:VEVENT
BEGIN:VTIMEZONE
TZID:Europe/Madrid
X-LIC-LOCATION:Europe/Madrid
BEGIN:DAYLIGHT
DTSTART;VALUE=DATE-TIME:20250330T030000
TZNAME:CEST
TZOFFSETFROM:+0100
TZOFFSETTO:+0200
END:DAYLIGHT
END:VTIMEZONE
END:VCALENDAR
