BEGIN:VCALENDAR
VERSION:2.0
PRODID:-//Plone.org//NONSGML plone.app.event//EN
X-WR-TIMEZONE:Europe/Madrid
BEGIN:VEVENT
SUMMARY:XVI Sopar Solidari de Mollet amb Cuba
DTSTART;TZID=Europe/Madrid;VALUE=DATE-TIME:20241018T210000
DTEND;TZID=Europe/Madrid;VALUE=DATE-TIME:20241018T220000
DTSTAMP;VALUE=DATE-TIME:20260421T214929Z
UID:2126f5c5c1ef479cbf9999307bd180b3@www.molletvalles.cat
CATEGORIES:Actes diversos
CREATED;VALUE=DATE-TIME:20241002T081104Z
LAST-MODIFIED;VALUE=DATE-TIME:20241003T071748Z
URL:https://www.molletvalles.cat/ca/actualitat/agenda/xvi-sopar-solidari-d
 e-mollet-amb-cuba
END:VEVENT
BEGIN:VTIMEZONE
TZID:Europe/Madrid
X-LIC-LOCATION:Europe/Madrid
BEGIN:DAYLIGHT
DTSTART;VALUE=DATE-TIME:20240331T030000
TZNAME:CEST
TZOFFSETFROM:+0100
TZOFFSETTO:+0200
END:DAYLIGHT
END:VTIMEZONE
END:VCALENDAR
