BEGIN:VCALENDAR
VERSION:2.0
PRODID:-//Plone.org//NONSGML plone.app.event//EN
X-WR-TIMEZONE:Europe/Madrid
BEGIN:VEVENT
SUMMARY:XXIX Trobada de Gegants de Sant Vicenç. Trobada de Gegants Mediev
 als. Plantada de Gegants
DTSTART;TZID=Europe/Madrid;VALUE=DATE-TIME:20240121T100000
DTEND;TZID=Europe/Madrid;VALUE=DATE-TIME:20240121T110000
DTSTAMP;VALUE=DATE-TIME:20260423T121336Z
UID:96f01d15caea4dd3a67e5da61e3d390f@www.molletvalles.cat
CATEGORIES:Festes populars
CREATED;VALUE=DATE-TIME:20240115T103023Z
DESCRIPTION:FESTA MAJOR D'HIVERN
LAST-MODIFIED;VALUE=DATE-TIME:20240115T103036Z
LOCATION:Plaça de Prat de la Riba
URL:https://www.molletvalles.cat/ca/actualitat/agenda/xxix-trobada-de-gega
 nts-de-sant-vicenc-trobada-de-gegants-medievals-plantada-de-gegants
END:VEVENT
BEGIN:VTIMEZONE
TZID:Europe/Madrid
X-LIC-LOCATION:Europe/Madrid
BEGIN:STANDARD
DTSTART;VALUE=DATE-TIME:20231029T020000
TZNAME:CET
TZOFFSETFROM:+0200
TZOFFSETTO:+0100
END:STANDARD
END:VTIMEZONE
END:VCALENDAR
