BEGIN:VCALENDAR
VERSION:2.0
PRODID:-//Plone.org//NONSGML plone.app.event//EN
X-WR-TIMEZONE:Europe/Madrid
BEGIN:VEVENT
SUMMARY:XXV Cursa Sant Vicenç i 14è Memorial Jordi Solé Tura
DTSTART;TZID=Europe/Madrid;VALUE=DATE-TIME:20240121T103000
DTEND;TZID=Europe/Madrid;VALUE=DATE-TIME:20240121T113000
DTSTAMP;VALUE=DATE-TIME:20260421T114328Z
UID:7a73da916a8d4029a11a1d5c3c24837f@www.molletvalles.cat
CATEGORIES:Esports
CREATED;VALUE=DATE-TIME:20231017T112637Z
DESCRIPTION:FESTA MAJOR D'HIVERN
LAST-MODIFIED;VALUE=DATE-TIME:20240115T102252Z
LOCATION:Sortida: Av. del Parc
URL:https://www.molletvalles.cat/ca/actualitat/agenda/xxv-cursa-sant-vicen
 c-i-14e-memorial-jordi-sole-tura
END:VEVENT
BEGIN:VTIMEZONE
TZID:Europe/Madrid
X-LIC-LOCATION:Europe/Madrid
BEGIN:STANDARD
DTSTART;VALUE=DATE-TIME:20231029T020000
TZNAME:CET
TZOFFSETFROM:+0200
TZOFFSETTO:+0100
END:STANDARD
END:VTIMEZONE
END:VCALENDAR
