BEGIN:VCALENDAR
VERSION:2.0
PRODID:-//Plone.org//NONSGML plone.app.event//EN
X-WR-TIMEZONE:Europe/Madrid
BEGIN:VEVENT
SUMMARY:XXXII Diada Castellera:  Concert\, amb l'Orquestra Allioli
DTSTART;TZID=Europe/Madrid;VALUE=DATE-TIME:20241025T230000
DTEND;TZID=Europe/Madrid;VALUE=DATE-TIME:20241025T235500
DTSTAMP;VALUE=DATE-TIME:20260419T165624Z
UID:2e4f5bb4bc0245168619ab38e0c6ac9d@www.molletvalles.cat
CATEGORIES:Festes populars
CREATED;VALUE=DATE-TIME:20241015T122500Z
LAST-MODIFIED;VALUE=DATE-TIME:20241024T072554Z
URL:https://www.molletvalles.cat/ca/actualitat/agenda/xxxii-diada-castelle
 ra-concert-amb-lorquestra-allioli
END:VEVENT
BEGIN:VTIMEZONE
TZID:Europe/Madrid
X-LIC-LOCATION:Europe/Madrid
BEGIN:DAYLIGHT
DTSTART;VALUE=DATE-TIME:20240331T030000
TZNAME:CEST
TZOFFSETFROM:+0100
TZOFFSETTO:+0200
END:DAYLIGHT
END:VTIMEZONE
END:VCALENDAR
