BEGIN:VCALENDAR
VERSION:2.0
PRODID:-//Plone.org//NONSGML plone.app.event//EN
X-WR-TIMEZONE:Europe/Madrid
BEGIN:VEVENT
SUMMARY:XXXIV Marxa Cicloturista Pelegrí Pi
DTSTART;VALUE=DATE:20251005
DTEND;VALUE=DATE:20251006
DTSTAMP;VALUE=DATE-TIME:20260421T160159Z
UID:31ac39cfb1f747b58cdb8a1a69f0bc95@www.molletvalles.cat
CATEGORIES:Esports
CREATED;VALUE=DATE-TIME:20250917T110715Z
LAST-MODIFIED;VALUE=DATE-TIME:20250919T070023Z
LOCATION:Pista Exterior de Riera Seca
URL:https://www.molletvalles.cat/ca/actualitat/agenda/xxxiv-marxa-ciclotur
 ista-pelegri-pi
END:VEVENT
END:VCALENDAR
