BEGIN:VCALENDAR
VERSION:2.0
PRODID:-//Plone.org//NONSGML plone.app.event//EN
X-WR-TIMEZONE:Europe/Madrid
BEGIN:VEVENT
SUMMARY:16a edició de la Mostra Internacional de Titelles de Mollet
DTSTART;TZID=Europe/Madrid;VALUE=DATE-TIME:20230401T220000
DTEND;TZID=Europe/Madrid;VALUE=DATE-TIME:20230401T233000
DTSTAMP;VALUE=DATE-TIME:20260425T154709Z
UID:8a5977f9d4424376aaa6c4a7c8bf3002@www.molletvalles.cat
CREATED;VALUE=DATE-TIME:20230412T105614Z
LAST-MODIFIED;VALUE=DATE-TIME:20230412T105617Z
LOCATION:CC Mercat Vell
URL:https://www.molletvalles.cat/ca/l-ajuntament/lalcaldessa/agenda/16a-ed
 icio-de-la-mostra-internacional-de-titelles-de-mollet-1
END:VEVENT
BEGIN:VTIMEZONE
TZID:Europe/Madrid
X-LIC-LOCATION:Europe/Madrid
BEGIN:DAYLIGHT
DTSTART;VALUE=DATE-TIME:20230326T030000
TZNAME:CEST
TZOFFSETFROM:+0100
TZOFFSETTO:+0200
END:DAYLIGHT
END:VTIMEZONE
END:VCALENDAR
