BEGIN:VCALENDAR
VERSION:2.0
PRODID:-//Plone.org//NONSGML plone.app.event//EN
X-WR-TIMEZONE:Europe/Madrid
BEGIN:VEVENT
SUMMARY:3a. Edició tast de Vins a Mollet
DTSTART;TZID=Europe/Madrid;VALUE=DATE-TIME:20231117T170000
DTEND;TZID=Europe/Madrid;VALUE=DATE-TIME:20231117T180000
DTSTAMP;VALUE=DATE-TIME:20260425T123609Z
UID:1b79a59523b348e0a839aba7f6e4a227@www.molletvalles.cat
CREATED;VALUE=DATE-TIME:20231121T160807Z
LAST-MODIFIED;VALUE=DATE-TIME:20231121T160810Z
LOCATION:Rambla Balmes
URL:https://www.molletvalles.cat/ca/l-ajuntament/lalcaldessa/agenda/3a-edi
 cio-tast-de-vins-a-mollet-1
END:VEVENT
BEGIN:VTIMEZONE
TZID:Europe/Madrid
X-LIC-LOCATION:Europe/Madrid
BEGIN:STANDARD
DTSTART;VALUE=DATE-TIME:20231029T020000
TZNAME:CET
TZOFFSETFROM:+0200
TZOFFSETTO:+0100
END:STANDARD
END:VTIMEZONE
END:VCALENDAR
