BEGIN:VCALENDAR
VERSION:2.0
PRODID:-//Plone.org//NONSGML plone.app.event//EN
X-WR-TIMEZONE:Europe/Madrid
BEGIN:VEVENT
SUMMARY:3a Fira de la cervesa artesana
DTSTART;TZID=Europe/Madrid;VALUE=DATE-TIME:20230506T100000
DTEND;TZID=Europe/Madrid;VALUE=DATE-TIME:20230506T110000
DTSTAMP;VALUE=DATE-TIME:20260425T154707Z
UID:e85b8ea16bfe4ce9b1e7af7a30b02656@www.molletvalles.cat
CREATED;VALUE=DATE-TIME:20230510T091137Z
LAST-MODIFIED;VALUE=DATE-TIME:20230510T091142Z
LOCATION:Parc de Can Mulà
URL:https://www.molletvalles.cat/ca/l-ajuntament/lalcaldessa/agenda/3a-fir
 a-de-la-cervesa-artesana
END:VEVENT
BEGIN:VTIMEZONE
TZID:Europe/Madrid
X-LIC-LOCATION:Europe/Madrid
BEGIN:DAYLIGHT
DTSTART;VALUE=DATE-TIME:20230326T030000
TZNAME:CEST
TZOFFSETFROM:+0100
TZOFFSETTO:+0200
END:DAYLIGHT
END:VTIMEZONE
END:VCALENDAR
