BEGIN:VCALENDAR
VERSION:2.0
PRODID:-//Plone.org//NONSGML plone.app.event//EN
X-WR-TIMEZONE:Europe/Madrid
BEGIN:VEVENT
SUMMARY:50è Aniversari de l'Agrupació d'Industrials del Baix Vallès
DTSTART;TZID=Europe/Madrid;VALUE=DATE-TIME:20240607T130000
DTEND;TZID=Europe/Madrid;VALUE=DATE-TIME:20240607T163000
DTSTAMP;VALUE=DATE-TIME:20260421T140459Z
UID:480868ea15f6493b88c4e9ad28d00d5e@www.molletvalles.cat
CREATED;VALUE=DATE-TIME:20240606T163803Z
LAST-MODIFIED;VALUE=DATE-TIME:20240606T163807Z
LOCATION:Celler de Can Roda
URL:https://www.molletvalles.cat/ca/l-ajuntament/lalcaldessa/agenda/50e-an
 iversari-de-lagrupacio-dindustrials-del-baix-valles
END:VEVENT
BEGIN:VTIMEZONE
TZID:Europe/Madrid
X-LIC-LOCATION:Europe/Madrid
BEGIN:DAYLIGHT
DTSTART;VALUE=DATE-TIME:20240331T030000
TZNAME:CEST
TZOFFSETFROM:+0100
TZOFFSETTO:+0200
END:DAYLIGHT
END:VTIMEZONE
END:VCALENDAR
