BEGIN:VCALENDAR
VERSION:2.0
PRODID:-//Plone.org//NONSGML plone.app.event//EN
X-WR-TIMEZONE:Europe/Madrid
BEGIN:VEVENT
SUMMARY:6è Aniversari de la Residènica La Immaculada
DTSTART;TZID=Europe/Madrid;VALUE=DATE-TIME:20240601T120000
DTEND;TZID=Europe/Madrid;VALUE=DATE-TIME:20240601T130000
DTSTAMP;VALUE=DATE-TIME:20260421T140500Z
UID:6381fa8d09b04c4597afa00caa1c1e66@www.molletvalles.cat
CREATED;VALUE=DATE-TIME:20240531T113519Z
LAST-MODIFIED;VALUE=DATE-TIME:20240531T113522Z
LOCATION:Residència La Immaculada
URL:https://www.molletvalles.cat/ca/l-ajuntament/lalcaldessa/agenda/6e-ani
 versari-de-la-residenica-la-immaculada
END:VEVENT
BEGIN:VTIMEZONE
TZID:Europe/Madrid
X-LIC-LOCATION:Europe/Madrid
BEGIN:DAYLIGHT
DTSTART;VALUE=DATE-TIME:20240331T030000
TZNAME:CEST
TZOFFSETFROM:+0100
TZOFFSETTO:+0200
END:DAYLIGHT
END:VTIMEZONE
END:VCALENDAR
