BEGIN:VCALENDAR
VERSION:2.0
PRODID:-//Plone.org//NONSGML plone.app.event//EN
X-WR-TIMEZONE:Europe/Madrid
BEGIN:VEVENT
SUMMARY:Acte BEQUES ESPORTIVES 2025
DTSTART;TZID=Europe/Madrid;VALUE=DATE-TIME:20260428T190000
DTEND;TZID=Europe/Madrid;VALUE=DATE-TIME:20260428T200000
DTSTAMP;VALUE=DATE-TIME:20260423T173525Z
UID:c72d2b05909f40b0baec01464749a814@www.molletvalles.cat
CREATED;VALUE=DATE-TIME:20260423T083403Z
LAST-MODIFIED;VALUE=DATE-TIME:20260423T083641Z
LOCATION:Ajuntament Mollet del Vallès
URL:https://www.molletvalles.cat/ca/l-ajuntament/lalcaldessa/agenda/acte-b
 eques-esportives-2025
END:VEVENT
BEGIN:VTIMEZONE
TZID:Europe/Madrid
X-LIC-LOCATION:Europe/Madrid
BEGIN:DAYLIGHT
DTSTART;VALUE=DATE-TIME:20260329T030000
TZNAME:CEST
TZOFFSETFROM:+0100
TZOFFSETTO:+0200
END:DAYLIGHT
END:VTIMEZONE
END:VCALENDAR
