BEGIN:VCALENDAR
VERSION:2.0
PRODID:-//Plone.org//NONSGML plone.app.event//EN
X-WR-TIMEZONE:Europe/Madrid
BEGIN:VEVENT
SUMMARY:Acte de celebració del 10è aniversari de la Residència La Vinyo
 ta
DTSTART;TZID=Europe/Madrid;VALUE=DATE-TIME:20220711T111500
DTEND;TZID=Europe/Madrid;VALUE=DATE-TIME:20220711T132000
DTSTAMP;VALUE=DATE-TIME:20260421T140617Z
UID:4526a143360b4b21b7dd74480e09c126@www.molletvalles.cat
CREATED;VALUE=DATE-TIME:20230203T130625Z
LAST-MODIFIED;VALUE=DATE-TIME:20230203T130627Z
LOCATION:Residència La Vinyota - C. Can Flequer\, 44\, Mollet
URL:https://www.molletvalles.cat/ca/l-ajuntament/lalcaldessa/agenda/acte-d
 e-celebracio-del-10e-aniversari-de-la-residencia-la-vinyota
END:VEVENT
BEGIN:VTIMEZONE
TZID:Europe/Madrid
X-LIC-LOCATION:Europe/Madrid
BEGIN:DAYLIGHT
DTSTART;VALUE=DATE-TIME:20220327T030000
TZNAME:CEST
TZOFFSETFROM:+0100
TZOFFSETTO:+0200
END:DAYLIGHT
END:VTIMEZONE
END:VCALENDAR
