BEGIN:VCALENDAR
VERSION:2.0
PRODID:-//Plone.org//NONSGML plone.app.event//EN
X-WR-TIMEZONE:Europe/Madrid
BEGIN:VEVENT
SUMMARY:Acte de presentació de l’estudi de les ciutats agermanades
DTSTART;TZID=Europe/Madrid;VALUE=DATE-TIME:20230330T180000
DTEND;TZID=Europe/Madrid;VALUE=DATE-TIME:20230330T190000
DTSTAMP;VALUE=DATE-TIME:20260421T174732Z
UID:f684773975894ce4b2963ec893005c92@www.molletvalles.cat
CREATED;VALUE=DATE-TIME:20230412T104055Z
LAST-MODIFIED;VALUE=DATE-TIME:20230412T104059Z
LOCATION:Ajuntament de Mollet del Vallès
URL:https://www.molletvalles.cat/ca/l-ajuntament/lalcaldessa/agenda/acte-d
 e-presentacio-de-l2019estudi-de-les-ciutats-agermanades
END:VEVENT
BEGIN:VTIMEZONE
TZID:Europe/Madrid
X-LIC-LOCATION:Europe/Madrid
BEGIN:DAYLIGHT
DTSTART;VALUE=DATE-TIME:20230326T030000
TZNAME:CEST
TZOFFSETFROM:+0100
TZOFFSETTO:+0200
END:DAYLIGHT
END:VTIMEZONE
END:VCALENDAR
