BEGIN:VCALENDAR
VERSION:2.0
PRODID:-//Plone.org//NONSGML plone.app.event//EN
X-WR-TIMEZONE:Europe/Madrid
BEGIN:VEVENT
SUMMARY:Alcaldessa als Barris Col.legis Nous
DTSTART;TZID=Europe/Madrid;VALUE=DATE-TIME:20260422T090000
DTEND;TZID=Europe/Madrid;VALUE=DATE-TIME:20260422T180000
DTSTAMP;VALUE=DATE-TIME:20260423T172952Z
UID:037cb102130a471d9d0b5404237c0a3d@www.molletvalles.cat
CREATED;VALUE=DATE-TIME:20260423T075525Z
LAST-MODIFIED;VALUE=DATE-TIME:20260423T080045Z
URL:https://www.molletvalles.cat/ca/l-ajuntament/lalcaldessa/agenda/alcald
 essa-als-barris-col-legis-nous
END:VEVENT
BEGIN:VTIMEZONE
TZID:Europe/Madrid
X-LIC-LOCATION:Europe/Madrid
BEGIN:DAYLIGHT
DTSTART;VALUE=DATE-TIME:20260329T030000
TZNAME:CEST
TZOFFSETFROM:+0100
TZOFFSETTO:+0200
END:DAYLIGHT
END:VTIMEZONE
END:VCALENDAR
