BEGIN:VCALENDAR
VERSION:2.0
PRODID:-//Plone.org//NONSGML plone.app.event//EN
X-WR-TIMEZONE:Europe/Madrid
BEGIN:VEVENT
SUMMARY:Animació infantil Balambambú Remullat - Cia. Pentina el Gat\, am
 b funcionament de l’arc d’aigua
DTSTART;TZID=Europe/Madrid;VALUE=DATE-TIME:20240819T120000
DTEND;TZID=Europe/Madrid;VALUE=DATE-TIME:20240819T130000
DTSTAMP;VALUE=DATE-TIME:20260419T234404Z
UID:951a0dc023714ced9a03be0088e2e17c@www.molletvalles.cat
CREATED;VALUE=DATE-TIME:20240816T122401Z
LAST-MODIFIED;VALUE=DATE-TIME:20240816T122440Z
LOCATION:Parc de Les Pruneres
URL:https://www.molletvalles.cat/ca/l-ajuntament/lalcaldessa/agenda/animac
 io-infantil-balambambu-remullat-cia-pentina-el-gat-amb-funcionament-de-l20
 19arc-d2019aigua
END:VEVENT
BEGIN:VTIMEZONE
TZID:Europe/Madrid
X-LIC-LOCATION:Europe/Madrid
BEGIN:DAYLIGHT
DTSTART;VALUE=DATE-TIME:20240331T030000
TZNAME:CEST
TZOFFSETFROM:+0100
TZOFFSETTO:+0200
END:DAYLIGHT
END:VTIMEZONE
END:VCALENDAR
