BEGIN:VCALENDAR
VERSION:2.0
PRODID:-//Plone.org//NONSGML plone.app.event//EN
X-WR-TIMEZONE:Europe/Madrid
BEGIN:VEVENT
SUMMARY:Assistència al berenar / sopar Contra el càncer
DTSTART;TZID=Europe/Madrid;VALUE=DATE-TIME:20250426T200000
DTEND;TZID=Europe/Madrid;VALUE=DATE-TIME:20250426T203000
DTSTAMP;VALUE=DATE-TIME:20260421T155803Z
UID:f3f6947478714e17af0e220b9230f895@www.molletvalles.cat
CREATED;VALUE=DATE-TIME:20250425T102526Z
LAST-MODIFIED;VALUE=DATE-TIME:20250425T102532Z
LOCATION:Mercat Vell\, Plaça Prat de la Riba
URL:https://www.molletvalles.cat/ca/l-ajuntament/lalcaldessa/agenda/assist
 encia-al-berenar-sopar-contra-el-cancer
END:VEVENT
BEGIN:VTIMEZONE
TZID:Europe/Madrid
X-LIC-LOCATION:Europe/Madrid
BEGIN:DAYLIGHT
DTSTART;VALUE=DATE-TIME:20250330T030000
TZNAME:CEST
TZOFFSETFROM:+0100
TZOFFSETTO:+0200
END:DAYLIGHT
END:VTIMEZONE
END:VCALENDAR
