BEGIN:VCALENDAR
VERSION:2.0
PRODID:-//Plone.org//NONSGML plone.app.event//EN
X-WR-TIMEZONE:Europe/Madrid
BEGIN:VEVENT
SUMMARY:Atenció als mitjans
DTSTART;TZID=Europe/Madrid;VALUE=DATE-TIME:20220614T130000
DTEND;TZID=Europe/Madrid;VALUE=DATE-TIME:20220614T133000
DTSTAMP;VALUE=DATE-TIME:20260421T135556Z
UID:8eae4e34995149b98f5621f501721551@www.molletvalles.cat
CREATED;VALUE=DATE-TIME:20230203T141755Z
LAST-MODIFIED;VALUE=DATE-TIME:20230203T141757Z
LOCATION:Via telefònica
URL:https://www.molletvalles.cat/ca/l-ajuntament/lalcaldessa/agenda/atenci
 o-als-mitjans-5
END:VEVENT
BEGIN:VTIMEZONE
TZID:Europe/Madrid
X-LIC-LOCATION:Europe/Madrid
BEGIN:DAYLIGHT
DTSTART;VALUE=DATE-TIME:20220327T030000
TZNAME:CEST
TZOFFSETFROM:+0100
TZOFFSETTO:+0200
END:DAYLIGHT
END:VTIMEZONE
END:VCALENDAR
