BEGIN:VCALENDAR
VERSION:2.0
PRODID:-//Plone.org//NONSGML plone.app.event//EN
X-WR-TIMEZONE:Europe/Madrid
BEGIN:VEVENT
SUMMARY:Caminada Gallecs - Fira Artesans
DTSTART;TZID=Europe/Madrid;VALUE=DATE-TIME:20230520T170000
DTEND;TZID=Europe/Madrid;VALUE=DATE-TIME:20230520T180000
DTSTAMP;VALUE=DATE-TIME:20260423T123334Z
UID:1946636a0eae42fabac6a7b3d377f63f@www.molletvalles.cat
CREATED;VALUE=DATE-TIME:20230517T111953Z
LAST-MODIFIED;VALUE=DATE-TIME:20230517T111958Z
LOCATION:Plaça Artesania
URL:https://www.molletvalles.cat/ca/l-ajuntament/lalcaldessa/agenda/camina
 da-gallecs-fira-artesans
END:VEVENT
BEGIN:VTIMEZONE
TZID:Europe/Madrid
X-LIC-LOCATION:Europe/Madrid
BEGIN:DAYLIGHT
DTSTART;VALUE=DATE-TIME:20230326T030000
TZNAME:CEST
TZOFFSETFROM:+0100
TZOFFSETTO:+0200
END:DAYLIGHT
END:VTIMEZONE
END:VCALENDAR
