BEGIN:VCALENDAR
VERSION:2.0
PRODID:-//Plone.org//NONSGML plone.app.event//EN
X-WR-TIMEZONE:Europe/Madrid
BEGIN:VEVENT
SUMMARY:Comissió Executiva Consorci Besòs Tordera
DTSTART;TZID=Europe/Madrid;VALUE=DATE-TIME:20260310T091500
DTEND;TZID=Europe/Madrid;VALUE=DATE-TIME:20260310T094500
DTSTAMP;VALUE=DATE-TIME:20260421T052756Z
UID:c974702058b84e67bfa44b0eda9d909b@www.molletvalles.cat
CREATED;VALUE=DATE-TIME:20260304T084515Z
LAST-MODIFIED;VALUE=DATE-TIME:20260304T084717Z
LOCATION:Telemàtica
URL:https://www.molletvalles.cat/ca/l-ajuntament/lalcaldessa/agenda/comiss
 io-executiva-consorci-besos-tordera-46
END:VEVENT
BEGIN:VTIMEZONE
TZID:Europe/Madrid
X-LIC-LOCATION:Europe/Madrid
BEGIN:STANDARD
DTSTART;VALUE=DATE-TIME:20251026T020000
TZNAME:CET
TZOFFSETFROM:+0200
TZOFFSETTO:+0100
END:STANDARD
END:VTIMEZONE
END:VCALENDAR
