BEGIN:VCALENDAR
VERSION:2.0
PRODID:-//Plone.org//NONSGML plone.app.event//EN
X-WR-TIMEZONE:Europe/Madrid
BEGIN:VEVENT
SUMMARY:Comissió Executiva Consorci Besòs Tordera
DTSTART;TZID=Europe/Madrid;VALUE=DATE-TIME:20260428T091500
DTEND;TZID=Europe/Madrid;VALUE=DATE-TIME:20260428T094500
DTSTAMP;VALUE=DATE-TIME:20260423T172808Z
UID:fa5cda590f674c7c83aaf2b364ac2e52@www.molletvalles.cat
CREATED;VALUE=DATE-TIME:20260423T083111Z
LAST-MODIFIED;VALUE=DATE-TIME:20260423T083140Z
LOCATION:Telemàtica
URL:https://www.molletvalles.cat/ca/l-ajuntament/lalcaldessa/agenda/comiss
 io-executiva-consorci-besos-tordera-49
END:VEVENT
BEGIN:VTIMEZONE
TZID:Europe/Madrid
X-LIC-LOCATION:Europe/Madrid
BEGIN:DAYLIGHT
DTSTART;VALUE=DATE-TIME:20260329T030000
TZNAME:CEST
TZOFFSETFROM:+0100
TZOFFSETTO:+0200
END:DAYLIGHT
END:VTIMEZONE
END:VCALENDAR
