BEGIN:VCALENDAR
VERSION:2.0
PRODID:-//Plone.org//NONSGML plone.app.event//EN
X-WR-TIMEZONE:Europe/Madrid
BEGIN:VEVENT
SUMMARY:Concert Dones Compositores - Alumnes de piano a l'Hospital de Moll
 et (IME)
DTSTART;TZID=Europe/Madrid;VALUE=DATE-TIME:20230505T180000
DTEND;TZID=Europe/Madrid;VALUE=DATE-TIME:20230505T190000
DTSTAMP;VALUE=DATE-TIME:20260421T160549Z
UID:71c88a530f5b4a8a9aaf5996d0971c79@www.molletvalles.cat
CREATED;VALUE=DATE-TIME:20230503T115316Z
LAST-MODIFIED;VALUE=DATE-TIME:20230503T115320Z
LOCATION:Hospital de Mollet del Vallès
URL:https://www.molletvalles.cat/ca/l-ajuntament/lalcaldessa/agenda/concer
 t-dones-compositores-alumnes-de-piano-a-lhospital-de-mollet-ime
END:VEVENT
BEGIN:VTIMEZONE
TZID:Europe/Madrid
X-LIC-LOCATION:Europe/Madrid
BEGIN:DAYLIGHT
DTSTART;VALUE=DATE-TIME:20230326T030000
TZNAME:CEST
TZOFFSETFROM:+0100
TZOFFSETTO:+0200
END:DAYLIGHT
END:VTIMEZONE
END:VCALENDAR
