BEGIN:VCALENDAR
VERSION:2.0
PRODID:-//Plone.org//NONSGML plone.app.event//EN
X-WR-TIMEZONE:Europe/Madrid
BEGIN:VEVENT
SUMMARY:Dia del Soci - Associació de Gent Gran de EspaiCaixa
DTSTART;TZID=Europe/Madrid;VALUE=DATE-TIME:20240614T180000
DTEND;TZID=Europe/Madrid;VALUE=DATE-TIME:20240614T190000
DTSTAMP;VALUE=DATE-TIME:20260421T160446Z
UID:10ea8ddd812641e7968984e18b408aa3@www.molletvalles.cat
CREATED;VALUE=DATE-TIME:20240620T114202Z
LAST-MODIFIED;VALUE=DATE-TIME:20240620T114901Z
LOCATION:CC Mercat Vell
URL:https://www.molletvalles.cat/ca/l-ajuntament/lalcaldessa/agenda/confir
 mada-assistencia-dia-del-soci-associacio-de-gent-gran-de-espaicaixa
END:VEVENT
BEGIN:VTIMEZONE
TZID:Europe/Madrid
X-LIC-LOCATION:Europe/Madrid
BEGIN:DAYLIGHT
DTSTART;VALUE=DATE-TIME:20240331T030000
TZNAME:CEST
TZOFFSETFROM:+0100
TZOFFSETTO:+0200
END:DAYLIGHT
END:VTIMEZONE
END:VCALENDAR
