BEGIN:VCALENDAR
VERSION:2.0
PRODID:-//Plone.org//NONSGML plone.app.event//EN
X-WR-TIMEZONE:Europe/Madrid
BEGIN:VEVENT
SUMMARY:Convocatòria Junta Ordinària del Patronat de l'FSM
DTSTART;TZID=Europe/Madrid;VALUE=DATE-TIME:20251217T150000
DTEND;TZID=Europe/Madrid;VALUE=DATE-TIME:20251217T163000
DTSTAMP;VALUE=DATE-TIME:20260425T121904Z
UID:e20adab718814a12b2fb84c52d607243@www.molletvalles.cat
CREATED;VALUE=DATE-TIME:20251217T084831Z
LAST-MODIFIED;VALUE=DATE-TIME:20251217T084841Z
LOCATION:Sala dels Consells del Campus Fundació
URL:https://www.molletvalles.cat/ca/l-ajuntament/lalcaldessa/agenda/convoc
 atoria-junta-ordinaria-del-patronat-de-lfsm
END:VEVENT
BEGIN:VTIMEZONE
TZID:Europe/Madrid
X-LIC-LOCATION:Europe/Madrid
BEGIN:STANDARD
DTSTART;VALUE=DATE-TIME:20251026T020000
TZNAME:CET
TZOFFSETFROM:+0200
TZOFFSETTO:+0100
END:STANDARD
END:VTIMEZONE
END:VCALENDAR
