BEGIN:VCALENDAR
VERSION:2.0
PRODID:-//Plone.org//NONSGML plone.app.event//EN
X-WR-TIMEZONE:Europe/Madrid
BEGIN:VEVENT
SUMMARY:Dinar amb entitat esportiva
DTSTART;TZID=Europe/Madrid;VALUE=DATE-TIME:20221113T140000
DTEND;TZID=Europe/Madrid;VALUE=DATE-TIME:20221113T150000
DTSTAMP;VALUE=DATE-TIME:20260421T140211Z
UID:a971b966f2054885aac0a6daf7bcbe61@www.molletvalles.cat
CREATED;VALUE=DATE-TIME:20230130T184422Z
LAST-MODIFIED;VALUE=DATE-TIME:20230130T184426Z
LOCATION:CC Mercat Vell
URL:https://www.molletvalles.cat/ca/l-ajuntament/lalcaldessa/agenda/dinar-
 amb-entitat-esportiva
END:VEVENT
BEGIN:VTIMEZONE
TZID:Europe/Madrid
X-LIC-LOCATION:Europe/Madrid
BEGIN:STANDARD
DTSTART;VALUE=DATE-TIME:20221030T020000
TZNAME:CET
TZOFFSETFROM:+0200
TZOFFSETTO:+0100
END:STANDARD
END:VTIMEZONE
END:VCALENDAR
