BEGIN:VCALENDAR
VERSION:2.0
PRODID:-//Plone.org//NONSGML plone.app.event//EN
X-WR-TIMEZONE:Europe/Madrid
BEGIN:VEVENT
SUMMARY:Encesa de la foguera amb el Ball de Diables
DTSTART;TZID=Europe/Madrid;VALUE=DATE-TIME:20240621T140000
DTEND;TZID=Europe/Madrid;VALUE=DATE-TIME:20240621T150000
DTSTAMP;VALUE=DATE-TIME:20260425T140145Z
UID:8c65307f5a8b4c19b90e16fe6ca0829a@www.molletvalles.cat
CREATED;VALUE=DATE-TIME:20240621T125041Z
LAST-MODIFIED;VALUE=DATE-TIME:20240621T125046Z
URL:https://www.molletvalles.cat/ca/l-ajuntament/lalcaldessa/agenda/encesa
 -de-la-foguera-amb-el-ball-de-diables
END:VEVENT
BEGIN:VTIMEZONE
TZID:Europe/Madrid
X-LIC-LOCATION:Europe/Madrid
BEGIN:DAYLIGHT
DTSTART;VALUE=DATE-TIME:20240331T030000
TZNAME:CEST
TZOFFSETFROM:+0100
TZOFFSETTO:+0200
END:DAYLIGHT
END:VTIMEZONE
END:VCALENDAR
