BEGIN:VCALENDAR
VERSION:2.0
PRODID:-//Plone.org//NONSGML plone.app.event//EN
X-WR-TIMEZONE:Europe/Madrid
BEGIN:VEVENT
SUMMARY:Entrega de Premis - 33è Memorial Pelegrí Pi Marxa cicloturista c
 iutat de Mollet  (Club Ciclista Plana Lledó)
DTSTART;TZID=Europe/Madrid;VALUE=DATE-TIME:20231001T133000
DTEND;TZID=Europe/Madrid;VALUE=DATE-TIME:20231001T143000
DTSTAMP;VALUE=DATE-TIME:20260421T161642Z
UID:991c3e0ff0064d328aa82ce8de153df5@www.molletvalles.cat
CREATED;VALUE=DATE-TIME:20230929T073529Z
LAST-MODIFIED;VALUE=DATE-TIME:20230929T073533Z
LOCATION:Pavelló Riera Seca
URL:https://www.molletvalles.cat/ca/l-ajuntament/lalcaldessa/agenda/entreg
 a-de-premis-33e-memorial-pelegri-pi-marxa-cicloturista-ciutat-de-mollet-cl
 ub-ciclista-plana-lledo
END:VEVENT
BEGIN:VTIMEZONE
TZID:Europe/Madrid
X-LIC-LOCATION:Europe/Madrid
BEGIN:DAYLIGHT
DTSTART;VALUE=DATE-TIME:20230326T030000
TZNAME:CEST
TZOFFSETFROM:+0100
TZOFFSETTO:+0200
END:DAYLIGHT
END:VTIMEZONE
END:VCALENDAR
