BEGIN:VCALENDAR
VERSION:2.0
PRODID:-//Plone.org//NONSGML plone.app.event//EN
X-WR-TIMEZONE:Europe/Madrid
BEGIN:VEVENT
SUMMARY:Entrega joguines per la campanya d'entrega de joguines de la Marat
 ó Radiofònica
DTSTART;TZID=Europe/Madrid;VALUE=DATE-TIME:20241213T100000
DTEND;TZID=Europe/Madrid;VALUE=DATE-TIME:20241213T110000
DTSTAMP;VALUE=DATE-TIME:20260425T121843Z
UID:cf459876c77c42909751573b09049fc2@www.molletvalles.cat
CREATED;VALUE=DATE-TIME:20241213T125509Z
LAST-MODIFIED;VALUE=DATE-TIME:20241213T125513Z
LOCATION:Av. Llibertat\, davant del Mercat Vell
URL:https://www.molletvalles.cat/ca/l-ajuntament/lalcaldessa/agenda/entreg
 a-joguines-per-la-campanya-dentrega-de-joguines-de-la-marato-radiofonica
END:VEVENT
BEGIN:VTIMEZONE
TZID:Europe/Madrid
X-LIC-LOCATION:Europe/Madrid
BEGIN:STANDARD
DTSTART;VALUE=DATE-TIME:20241027T020000
TZNAME:CET
TZOFFSETFROM:+0200
TZOFFSETTO:+0100
END:STANDARD
END:VTIMEZONE
END:VCALENDAR
