BEGIN:VCALENDAR
VERSION:2.0
PRODID:-//Plone.org//NONSGML plone.app.event//EN
X-WR-TIMEZONE:Europe/Madrid
BEGIN:VEVENT
SUMMARY:Entrevista amb alumnes Escola del municipi
DTSTART;TZID=Europe/Madrid;VALUE=DATE-TIME:20250604T103000
DTEND;TZID=Europe/Madrid;VALUE=DATE-TIME:20250604T111500
DTSTAMP;VALUE=DATE-TIME:20260423T105457Z
UID:073f1a8fcba448aa852da4976e51aeed@www.molletvalles.cat
CREATED;VALUE=DATE-TIME:20250602T081553Z
LAST-MODIFIED;VALUE=DATE-TIME:20250602T081601Z
LOCATION:Ajuntament Mollet del Vallès
URL:https://www.molletvalles.cat/ca/l-ajuntament/lalcaldessa/agenda/entrev
 ista-amb-alumnes-escola-del-municipi
END:VEVENT
BEGIN:VTIMEZONE
TZID:Europe/Madrid
X-LIC-LOCATION:Europe/Madrid
BEGIN:DAYLIGHT
DTSTART;VALUE=DATE-TIME:20250330T030000
TZNAME:CEST
TZOFFSETFROM:+0100
TZOFFSETTO:+0200
END:DAYLIGHT
END:VTIMEZONE
END:VCALENDAR
