BEGIN:VCALENDAR
VERSION:2.0
PRODID:-//Plone.org//NONSGML plone.app.event//EN
X-WR-TIMEZONE:Europe/Madrid
BEGIN:VEVENT
SUMMARY:Entrevista d'alumnat universitari
DTSTART;TZID=Europe/Madrid;VALUE=DATE-TIME:20230308T130000
DTEND;TZID=Europe/Madrid;VALUE=DATE-TIME:20230308T140000
DTSTAMP;VALUE=DATE-TIME:20260421T140120Z
UID:07a325b4305d405e8bef34ced7cd39bb@www.molletvalles.cat
CREATED;VALUE=DATE-TIME:20230310T124751Z
LAST-MODIFIED;VALUE=DATE-TIME:20230310T124753Z
LOCATION:Ajuntament de Mollet del Vallès
URL:https://www.molletvalles.cat/ca/l-ajuntament/lalcaldessa/agenda/entrev
 ista-dalumnat-universitari
END:VEVENT
BEGIN:VTIMEZONE
TZID:Europe/Madrid
X-LIC-LOCATION:Europe/Madrid
BEGIN:STANDARD
DTSTART;VALUE=DATE-TIME:20221030T020000
TZNAME:CET
TZOFFSETFROM:+0200
TZOFFSETTO:+0100
END:STANDARD
END:VTIMEZONE
END:VCALENDAR
