BEGIN:VCALENDAR
VERSION:2.0
PRODID:-//Plone.org//NONSGML plone.app.event//EN
X-WR-TIMEZONE:Europe/Madrid
BEGIN:VEVENT
SUMMARY:Festa del soci Club Petanca Altaveu
DTSTART;TZID=Europe/Madrid;VALUE=DATE-TIME:20240601T140000
DTEND;TZID=Europe/Madrid;VALUE=DATE-TIME:20240601T150000
DTSTAMP;VALUE=DATE-TIME:20260421T160545Z
UID:9b58c3867b844ee686a5385eb97cb3ee@www.molletvalles.cat
CREATED;VALUE=DATE-TIME:20240603T094725Z
LAST-MODIFIED;VALUE=DATE-TIME:20240603T094729Z
LOCATION:Club Petanca Altaveu
URL:https://www.molletvalles.cat/ca/l-ajuntament/lalcaldessa/agenda/festa-
 del-soci-club-petanca-altaveu
END:VEVENT
BEGIN:VTIMEZONE
TZID:Europe/Madrid
X-LIC-LOCATION:Europe/Madrid
BEGIN:DAYLIGHT
DTSTART;VALUE=DATE-TIME:20240331T030000
TZNAME:CEST
TZOFFSETFROM:+0100
TZOFFSETTO:+0200
END:DAYLIGHT
END:VTIMEZONE
END:VCALENDAR
