BEGIN:VCALENDAR
VERSION:2.0
PRODID:-//Plone.org//NONSGML plone.app.event//EN
X-WR-TIMEZONE:Europe/Madrid
BEGIN:VEVENT
SUMMARY:Festival Solidari DANA
DTSTART;TZID=Europe/Madrid;VALUE=DATE-TIME:20241117T110000
DTEND;TZID=Europe/Madrid;VALUE=DATE-TIME:20241117T120000
DTSTAMP;VALUE=DATE-TIME:20260421T135545Z
UID:ec89094060ba413da51025044a32f0ff@www.molletvalles.cat
CREATED;VALUE=DATE-TIME:20241115T141959Z
LAST-MODIFIED;VALUE=DATE-TIME:20241115T142003Z
LOCATION:Parc de Les Pruneres
URL:https://www.molletvalles.cat/ca/l-ajuntament/lalcaldessa/agenda/festiv
 al-solidari-dana
END:VEVENT
BEGIN:VTIMEZONE
TZID:Europe/Madrid
X-LIC-LOCATION:Europe/Madrid
BEGIN:STANDARD
DTSTART;VALUE=DATE-TIME:20241027T020000
TZNAME:CET
TZOFFSETFROM:+0200
TZOFFSETTO:+0100
END:STANDARD
END:VTIMEZONE
END:VCALENDAR
