BEGIN:VCALENDAR
VERSION:2.0
PRODID:-//Plone.org//NONSGML plone.app.event//EN
X-WR-TIMEZONE:Europe/Madrid
BEGIN:VEVENT
SUMMARY:Fil Directe amb l'Alcaldessa
DTSTART;TZID=Europe/Madrid;VALUE=DATE-TIME:20240617T140000
DTEND;TZID=Europe/Madrid;VALUE=DATE-TIME:20240617T143000
DTSTAMP;VALUE=DATE-TIME:20260425T140016Z
UID:9ee92633aed646b199694dd12c3dad9f@www.molletvalles.cat
CREATED;VALUE=DATE-TIME:20240620T123426Z
LAST-MODIFIED;VALUE=DATE-TIME:20240620T123429Z
URL:https://www.molletvalles.cat/ca/l-ajuntament/lalcaldessa/agenda/fil-di
 recte-amb-lalcaldessa-14
END:VEVENT
BEGIN:VTIMEZONE
TZID:Europe/Madrid
X-LIC-LOCATION:Europe/Madrid
BEGIN:DAYLIGHT
DTSTART;VALUE=DATE-TIME:20240331T030000
TZNAME:CEST
TZOFFSETFROM:+0100
TZOFFSETTO:+0200
END:DAYLIGHT
END:VTIMEZONE
END:VCALENDAR
