BEGIN:VCALENDAR
VERSION:2.0
PRODID:-//Plone.org//NONSGML plone.app.event//EN
X-WR-TIMEZONE:Europe/Madrid
BEGIN:VEVENT
SUMMARY:Fil Directe amb l'Alcaldessa
DTSTART;TZID=Europe/Madrid;VALUE=DATE-TIME:20230619T140000
DTEND;TZID=Europe/Madrid;VALUE=DATE-TIME:20230619T150000
DTSTAMP;VALUE=DATE-TIME:20260421T135733Z
UID:c4cf8d2572e3492ea4939fefb669ffc3@www.molletvalles.cat
CREATED;VALUE=DATE-TIME:20230622T125219Z
LAST-MODIFIED;VALUE=DATE-TIME:20230622T125227Z
LOCATION:Ajuntament de Mollet del Vallès
URL:https://www.molletvalles.cat/ca/l-ajuntament/lalcaldessa/agenda/fil-di
 recte-amb-lalcaldessa-2
END:VEVENT
BEGIN:VTIMEZONE
TZID:Europe/Madrid
X-LIC-LOCATION:Europe/Madrid
BEGIN:DAYLIGHT
DTSTART;VALUE=DATE-TIME:20230326T030000
TZNAME:CEST
TZOFFSETFROM:+0100
TZOFFSETTO:+0200
END:DAYLIGHT
END:VTIMEZONE
END:VCALENDAR
