BEGIN:VCALENDAR
VERSION:2.0
PRODID:-//Plone.org//NONSGML plone.app.event//EN
X-WR-TIMEZONE:Europe/Madrid
BEGIN:VEVENT
SUMMARY:Fil Directe amb l'Alcaldessa
DTSTART;TZID=Europe/Madrid;VALUE=DATE-TIME:20260427T140000
DTEND;TZID=Europe/Madrid;VALUE=DATE-TIME:20260427T143000
DTSTAMP;VALUE=DATE-TIME:20260423T172854Z
UID:a3a855b0b559457e832982a8adb048a5@www.molletvalles.cat
CREATED;VALUE=DATE-TIME:20260423T082218Z
LAST-MODIFIED;VALUE=DATE-TIME:20260423T082228Z
LOCATION:Ajuntament Mollet del Vallès
URL:https://www.molletvalles.cat/ca/l-ajuntament/lalcaldessa/agenda/fil-di
 recte-amb-lalcaldessa-25
END:VEVENT
BEGIN:VTIMEZONE
TZID:Europe/Madrid
X-LIC-LOCATION:Europe/Madrid
BEGIN:DAYLIGHT
DTSTART;VALUE=DATE-TIME:20260329T030000
TZNAME:CEST
TZOFFSETFROM:+0100
TZOFFSETTO:+0200
END:DAYLIGHT
END:VTIMEZONE
END:VCALENDAR
