BEGIN:VCALENDAR
VERSION:2.0
PRODID:-//Plone.org//NONSGML plone.app.event//EN
X-WR-TIMEZONE:Europe/Madrid
BEGIN:VEVENT
SUMMARY:Fil directe amb l'Alcaldessa
DTSTART;TZID=Europe/Madrid;VALUE=DATE-TIME:20230508T140000
DTSTAMP;VALUE=DATE-TIME:20260422T131233Z
UID:0c12a817431a4ca3b0fefd154fe18988@www.molletvalles.cat
CREATED;VALUE=DATE-TIME:20221228T124830Z
DESCRIPTION:L’alcaldessa respon en directe les consultes dels oients des
  de l’estudi de Ràdio Mollet. \nLa ciutadania pot ser protagonista adre
 çant la seva pregunta en directe al telèfon 93 570 68 66\, en horari d'e
 missió dilluns\, dos cops al mes.
LAST-MODIFIED;VALUE=DATE-TIME:20230118T171049Z
LOCATION:Ràdio Mollet
URL:https://www.molletvalles.cat/ca/l-ajuntament/lalcaldessa/agenda/fil-di
 recte-amb-lalcaldessa/2023-05-08
END:VEVENT
BEGIN:VTIMEZONE
TZID:Europe/Madrid
X-LIC-LOCATION:Europe/Madrid
BEGIN:DAYLIGHT
DTSTART;VALUE=DATE-TIME:20230326T030000
TZNAME:CEST
TZOFFSETFROM:+0100
TZOFFSETTO:+0200
END:DAYLIGHT
END:VTIMEZONE
END:VCALENDAR
