BEGIN:VCALENDAR
VERSION:2.0
PRODID:-//Plone.org//NONSGML plone.app.event//EN
X-WR-TIMEZONE:Europe/Madrid
BEGIN:VEVENT
SUMMARY:Fil directe amb l'Alcaldessa
DTSTART;TZID=Europe/Madrid;VALUE=DATE-TIME:20230109T140000
DTSTAMP;VALUE=DATE-TIME:20260422T182035Z
UID:0c12a817431a4ca3b0fefd154fe18988@www.molletvalles.cat
RRULE:FREQ=WEEKLY;UNTIL=20230508T000000;BYDAY=MO
EXDATE;TZID=Europe/Madrid:20230102T000000,20230116T000000,20230123T000000,
 20230206T000000,20230220T000000,20230306T000000,20230320T000000,20230410T0
 00000,20230417T000000,20230501T000000
CREATED;VALUE=DATE-TIME:20221228T124830Z
DESCRIPTION:L’alcaldessa respon en directe les consultes dels oients des
  de l’estudi de Ràdio Mollet. \nLa ciutadania pot ser protagonista adre
 çant la seva pregunta en directe al telèfon 93 570 68 66\, en horari d'e
 missió dilluns\, dos cops al mes.
LAST-MODIFIED;VALUE=DATE-TIME:20230118T171049Z
LOCATION:Ràdio Mollet
URL:https://www.molletvalles.cat/ca/l-ajuntament/lalcaldessa/agenda/fil-di
 recte-amb-lalcaldessa
END:VEVENT
BEGIN:VTIMEZONE
TZID:Europe/Madrid
X-LIC-LOCATION:Europe/Madrid
BEGIN:STANDARD
DTSTART;VALUE=DATE-TIME:20221030T020000
TZNAME:CET
TZOFFSETFROM:+0200
TZOFFSETTO:+0100
END:STANDARD
END:VTIMEZONE
END:VCALENDAR
