BEGIN:VCALENDAR
VERSION:2.0
PRODID:-//Plone.org//NONSGML plone.app.event//EN
X-WR-TIMEZONE:Europe/Madrid
BEGIN:VEVENT
SUMMARY:Final de festa de la XXVIII trobada de gegants
DTSTART;TZID=Europe/Madrid;VALUE=DATE-TIME:20230122T123000
DTEND;TZID=Europe/Madrid;VALUE=DATE-TIME:20230122T133000
DTSTAMP;VALUE=DATE-TIME:20260421T175042Z
UID:b8f5504528344fd7a5b29b567bf73721@www.molletvalles.cat
CREATED;VALUE=DATE-TIME:20230120T131716Z
LAST-MODIFIED;VALUE=DATE-TIME:20230120T131725Z
LOCATION:Plaça Prat de la Riba
URL:https://www.molletvalles.cat/ca/l-ajuntament/lalcaldessa/agenda/final-
 de-festa-de-la-xxviii-trobada-de-gegants
END:VEVENT
BEGIN:VTIMEZONE
TZID:Europe/Madrid
X-LIC-LOCATION:Europe/Madrid
BEGIN:STANDARD
DTSTART;VALUE=DATE-TIME:20221030T020000
TZNAME:CET
TZOFFSETFROM:+0200
TZOFFSETTO:+0100
END:STANDARD
END:VTIMEZONE
END:VCALENDAR
