BEGIN:VCALENDAR
VERSION:2.0
PRODID:-//Plone.org//NONSGML plone.app.event//EN
X-WR-TIMEZONE:Europe/Madrid
BEGIN:VEVENT
SUMMARY:Grup de Playback de la gent gran
DTSTART;TZID=Europe/Madrid;VALUE=DATE-TIME:20241017T173000
DTEND;TZID=Europe/Madrid;VALUE=DATE-TIME:20241017T183000
DTSTAMP;VALUE=DATE-TIME:20260421T135427Z
UID:174e3bef96dc496aad0c8b187f3f581f@www.molletvalles.cat
CREATED;VALUE=DATE-TIME:20241023T071549Z
LAST-MODIFIED;VALUE=DATE-TIME:20241023T071553Z
URL:https://www.molletvalles.cat/ca/l-ajuntament/lalcaldessa/agenda/grup-d
 e-playback-de-la-gent-gran
END:VEVENT
BEGIN:VTIMEZONE
TZID:Europe/Madrid
X-LIC-LOCATION:Europe/Madrid
BEGIN:DAYLIGHT
DTSTART;VALUE=DATE-TIME:20240331T030000
TZNAME:CEST
TZOFFSETFROM:+0100
TZOFFSETTO:+0200
END:DAYLIGHT
END:VTIMEZONE
END:VCALENDAR
