BEGIN:VCALENDAR
VERSION:2.0
PRODID:-//Plone.org//NONSGML plone.app.event//EN
X-WR-TIMEZONE:Europe/Madrid
BEGIN:VEVENT
SUMMARY:Hissada de bandera d'Aragó
DTSTART;TZID=Europe/Madrid;VALUE=DATE-TIME:20221012T120000
DTEND;TZID=Europe/Madrid;VALUE=DATE-TIME:20221012T130000
DTSTAMP;VALUE=DATE-TIME:20260421T135645Z
UID:3afd4929719743269cc279317f914425@www.molletvalles.cat
CREATED;VALUE=DATE-TIME:20230201T123136Z
LAST-MODIFIED;VALUE=DATE-TIME:20230201T123139Z
LOCATION:Plaça Prat de la Riba
URL:https://www.molletvalles.cat/ca/l-ajuntament/lalcaldessa/agenda/hissad
 a-de-bandera-darago
END:VEVENT
BEGIN:VTIMEZONE
TZID:Europe/Madrid
X-LIC-LOCATION:Europe/Madrid
BEGIN:DAYLIGHT
DTSTART;VALUE=DATE-TIME:20220327T030000
TZNAME:CEST
TZOFFSETFROM:+0100
TZOFFSETTO:+0200
END:DAYLIGHT
END:VTIMEZONE
END:VCALENDAR
