BEGIN:VCALENDAR
VERSION:2.0
PRODID:-//Plone.org//NONSGML plone.app.event//EN
X-WR-TIMEZONE:Europe/Madrid
BEGIN:VEVENT
SUMMARY:III Gala dels Premis eines socials 2023
DTSTART;TZID=Europe/Madrid;VALUE=DATE-TIME:20231017T183000
DTEND;TZID=Europe/Madrid;VALUE=DATE-TIME:20231017T193000
DTSTAMP;VALUE=DATE-TIME:20260421T174754Z
UID:15b9b90b20fc49208f48a190dd4648da@www.molletvalles.cat
CREATED;VALUE=DATE-TIME:20231019T100055Z
LAST-MODIFIED;VALUE=DATE-TIME:20231019T100059Z
LOCATION:CC Mercat Vell
URL:https://www.molletvalles.cat/ca/l-ajuntament/lalcaldessa/agenda/iii-ga
 la-dels-premis-eines-socials-2023
END:VEVENT
BEGIN:VTIMEZONE
TZID:Europe/Madrid
X-LIC-LOCATION:Europe/Madrid
BEGIN:DAYLIGHT
DTSTART;VALUE=DATE-TIME:20230326T030000
TZNAME:CEST
TZOFFSETFROM:+0100
TZOFFSETTO:+0200
END:DAYLIGHT
END:VTIMEZONE
END:VCALENDAR
