BEGIN:VCALENDAR
VERSION:2.0
PRODID:-//Plone.org//NONSGML plone.app.event//EN
X-WR-TIMEZONE:Europe/Madrid
BEGIN:VEVENT
SUMMARY:Inauguració de la XXXVIII Fira d'Artesans i l'exposició "Babel"\
 , de Josep Nogué
DTSTART;TZID=Europe/Madrid;VALUE=DATE-TIME:20220916T190000
DTEND;TZID=Europe/Madrid;VALUE=DATE-TIME:20220916T200000
DTSTAMP;VALUE=DATE-TIME:20260419T162451Z
UID:71af102bfebe4cb998263d9be2091103@www.molletvalles.cat
CREATED;VALUE=DATE-TIME:20230202T102607Z
LAST-MODIFIED;VALUE=DATE-TIME:20230202T102611Z
LOCATION:CC La Marineta
URL:https://www.molletvalles.cat/ca/l-ajuntament/lalcaldessa/agenda/inaugu
 racio-de-la-xxxviii-fira-dartesans-i-lexposicio-babel-de-josep-nogue
END:VEVENT
BEGIN:VTIMEZONE
TZID:Europe/Madrid
X-LIC-LOCATION:Europe/Madrid
BEGIN:DAYLIGHT
DTSTART;VALUE=DATE-TIME:20220327T030000
TZNAME:CEST
TZOFFSETFROM:+0100
TZOFFSETTO:+0200
END:DAYLIGHT
END:VTIMEZONE
END:VCALENDAR
