BEGIN:VCALENDAR
VERSION:2.0
PRODID:-//Plone.org//NONSGML plone.app.event//EN
X-WR-TIMEZONE:Europe/Madrid
BEGIN:VEVENT
SUMMARY:Inauguració Exposició "història del mutualisme a Catalunya" 125
  anys
DTSTART;TZID=Europe/Madrid;VALUE=DATE-TIME:20230223T183000
DTEND;TZID=Europe/Madrid;VALUE=DATE-TIME:20230223T193000
DTSTAMP;VALUE=DATE-TIME:20260425T121804Z
UID:2085ed52056e4ca2bb0beab132842791@www.molletvalles.cat
CREATED;VALUE=DATE-TIME:20230223T105441Z
LAST-MODIFIED;VALUE=DATE-TIME:20230223T105443Z
LOCATION:Sala Fiveller
URL:https://www.molletvalles.cat/ca/l-ajuntament/lalcaldessa/agenda/inaugu
 racio-exposicio-historia-del-mutualisme-a-catalunya-125-anys
END:VEVENT
BEGIN:VTIMEZONE
TZID:Europe/Madrid
X-LIC-LOCATION:Europe/Madrid
BEGIN:STANDARD
DTSTART;VALUE=DATE-TIME:20221030T020000
TZNAME:CET
TZOFFSETFROM:+0200
TZOFFSETTO:+0100
END:STANDARD
END:VTIMEZONE
END:VCALENDAR
