BEGIN:VCALENDAR
VERSION:2.0
PRODID:-//Plone.org//NONSGML plone.app.event//EN
X-WR-TIMEZONE:Europe/Madrid
BEGIN:VEVENT
SUMMARY:Inauguració Pessebre Goma Eva AV Estació de França
DTSTART;TZID=Europe/Madrid;VALUE=DATE-TIME:20230130T200000
DTEND;TZID=Europe/Madrid;VALUE=DATE-TIME:20230130T210000
DTSTAMP;VALUE=DATE-TIME:20260421T155922Z
UID:e3386e95ba6f4ba28e9092bcf4bf372d@www.molletvalles.cat
CREATED;VALUE=DATE-TIME:20230130T112953Z
LAST-MODIFIED;VALUE=DATE-TIME:20230130T112957Z
LOCATION:AV Estació de França
URL:https://www.molletvalles.cat/ca/l-ajuntament/lalcaldessa/agenda/inaugu
 racio-pessebre-goma-eva-av-estacio-de-franca
END:VEVENT
BEGIN:VTIMEZONE
TZID:Europe/Madrid
X-LIC-LOCATION:Europe/Madrid
BEGIN:STANDARD
DTSTART;VALUE=DATE-TIME:20221030T020000
TZNAME:CET
TZOFFSETFROM:+0200
TZOFFSETTO:+0100
END:STANDARD
END:VTIMEZONE
END:VCALENDAR
