BEGIN:VCALENDAR
VERSION:2.0
PRODID:-//Plone.org//NONSGML plone.app.event//EN
X-WR-TIMEZONE:Europe/Madrid
BEGIN:VEVENT
SUMMARY:Inauguració Urgències Hospital de Mollet del Vallès
DTSTART;TZID=Europe/Madrid;VALUE=DATE-TIME:20221216T090000
DTEND;TZID=Europe/Madrid;VALUE=DATE-TIME:20221216T120000
DTSTAMP;VALUE=DATE-TIME:20260421T160246Z
UID:78596bc5330a465da365e332c65888d4@www.molletvalles.cat
CREATED;VALUE=DATE-TIME:20230130T101328Z
LAST-MODIFIED;VALUE=DATE-TIME:20230130T101330Z
LOCATION:Hospital de Mollet del Vallès
URL:https://www.molletvalles.cat/ca/l-ajuntament/lalcaldessa/agenda/inaugu
 racio-urgencies-hospital-de-mollet-del-valles
END:VEVENT
BEGIN:VTIMEZONE
TZID:Europe/Madrid
X-LIC-LOCATION:Europe/Madrid
BEGIN:STANDARD
DTSTART;VALUE=DATE-TIME:20221030T020000
TZNAME:CET
TZOFFSETFROM:+0200
TZOFFSETTO:+0100
END:STANDARD
END:VTIMEZONE
END:VCALENDAR
