BEGIN:VCALENDAR
VERSION:2.0
PRODID:-//Plone.org//NONSGML plone.app.event//EN
X-WR-TIMEZONE:Europe/Madrid
BEGIN:VEVENT
SUMMARY:Jornades conmemoratives del dia d'Andalusia
DTSTART;TZID=Europe/Madrid;VALUE=DATE-TIME:20260225T190000
DTEND;TZID=Europe/Madrid;VALUE=DATE-TIME:20260225T200000
DTSTAMP;VALUE=DATE-TIME:20260421T140336Z
UID:87a9fef0d42e431da4bee4d33cdff068@www.molletvalles.cat
CREATED;VALUE=DATE-TIME:20260226T124139Z
LAST-MODIFIED;VALUE=DATE-TIME:20260226T124147Z
LOCATION:Barcelona
URL:https://www.molletvalles.cat/ca/l-ajuntament/lalcaldessa/agenda/jornad
 es-conmemoratives-del-dia-dandalusia
END:VEVENT
BEGIN:VTIMEZONE
TZID:Europe/Madrid
X-LIC-LOCATION:Europe/Madrid
BEGIN:STANDARD
DTSTART;VALUE=DATE-TIME:20251026T020000
TZNAME:CET
TZOFFSETFROM:+0200
TZOFFSETTO:+0100
END:STANDARD
END:VTIMEZONE
END:VCALENDAR
