BEGIN:VCALENDAR
VERSION:2.0
PRODID:-//Plone.org//NONSGML plone.app.event//EN
X-WR-TIMEZONE:Europe/Madrid
BEGIN:VEVENT
SUMMARY:Junta de Govern Local
DTSTART;TZID=Europe/Madrid;VALUE=DATE-TIME:20230327T093000
DTEND;TZID=Europe/Madrid;VALUE=DATE-TIME:20230327T100000
DTSTAMP;VALUE=DATE-TIME:20260425T235737Z
UID:c3e8ec87648a41fcad54441c9b48876a@www.molletvalles.cat
ATTENDEE;CN="Els i les tinents d'alcaldessa";ROLE=REQ-PARTICIPANT:Els i le
 s tinents d'alcaldessa
CREATED;VALUE=DATE-TIME:20221228T124118Z
LAST-MODIFIED;VALUE=DATE-TIME:20221228T124123Z
LOCATION:Casa de la Vila
URL:https://www.molletvalles.cat/ca/l-ajuntament/lalcaldessa/agenda/junta-
 de-govern-local-1/2023-03-27
END:VEVENT
BEGIN:VTIMEZONE
TZID:Europe/Madrid
X-LIC-LOCATION:Europe/Madrid
BEGIN:DAYLIGHT
DTSTART;VALUE=DATE-TIME:20230326T030000
TZNAME:CEST
TZOFFSETFROM:+0100
TZOFFSETTO:+0200
END:DAYLIGHT
END:VTIMEZONE
END:VCALENDAR
